BEGIN:VCALENDAR
VERSION:2.0
PRODID:-//Ecole des Grands Parents Européens - ECPv6.15.20//NONSGML v1.0//EN
CALSCALE:GREGORIAN
METHOD:PUBLISH
X-ORIGINAL-URL:https://egpebordeauxgironde.fr
X-WR-CALDESC:Évènements pour Ecole des Grands Parents Européens
REFRESH-INTERVAL;VALUE=DURATION:PT1H
X-Robots-Tag:noindex
X-PUBLISHED-TTL:PT1H
BEGIN:VTIMEZONE
TZID:Europe/Paris
BEGIN:DAYLIGHT
TZOFFSETFROM:+0100
TZOFFSETTO:+0200
TZNAME:CEST
DTSTART:20250330T010000
END:DAYLIGHT
BEGIN:STANDARD
TZOFFSETFROM:+0200
TZOFFSETTO:+0100
TZNAME:CET
DTSTART:20251026T010000
END:STANDARD
BEGIN:DAYLIGHT
TZOFFSETFROM:+0100
TZOFFSETTO:+0200
TZNAME:CEST
DTSTART:20260329T010000
END:DAYLIGHT
BEGIN:STANDARD
TZOFFSETFROM:+0200
TZOFFSETTO:+0100
TZNAME:CET
DTSTART:20261025T010000
END:STANDARD
BEGIN:DAYLIGHT
TZOFFSETFROM:+0100
TZOFFSETTO:+0200
TZNAME:CEST
DTSTART:20270328T010000
END:DAYLIGHT
BEGIN:STANDARD
TZOFFSETFROM:+0200
TZOFFSETTO:+0100
TZNAME:CET
DTSTART:20271031T010000
END:STANDARD
END:VTIMEZONE
BEGIN:VEVENT
DTSTART;TZID=Europe/Paris:20260428T143000
DTEND;TZID=Europe/Paris:20260428T163000
DTSTAMP:20260423T162432
CREATED:20251108T171738Z
LAST-MODIFIED:20260309T165553Z
UID:998-1777386600-1777393800@egpebordeauxgironde.fr
SUMMARY:Café des Grands-parents
DESCRIPTION:Le mardi 28 avril 2026 à 14h30 au Café Rohan (1er étage\, Place Pey Berland – tram « Hôtel de ville ») \nVoici la cinquième rencontre du café des Grands-parents. Le thème sera : « l’éducation positive »
URL:https://egpebordeauxgironde.fr/?tribe_events=cafe-des-grands-parents-4
LOCATION:Café Le Rohan\, 1 place Pey Berland\, Bordeaux\, 33000
ATTACH;FMTTYPE=image/jpeg:https://egpebordeauxgironde.fr/wp-content/uploads/2025/11/cafe-296.jpg
END:VEVENT
BEGIN:VEVENT
DTSTART;TZID=Europe/Paris:20260521T143000
DTEND;TZID=Europe/Paris:20260521T163000
DTSTAMP:20260423T162432
CREATED:20260318T072031Z
LAST-MODIFIED:20260318T072031Z
UID:1167-1779373800-1779381000@egpebordeauxgironde.fr
SUMMARY:Assemblée générale
DESCRIPTION:Nous vous attendons pour notre assemblée générale afin de faire avec vous le bilan de l’année écoulée ainsi que te discuter de vos envies et projets pour 2027.
URL:https://egpebordeauxgironde.fr/?tribe_events=assemblee-generale-2
LOCATION:Athénée Municipal\, 10 Place Saint Christoly\, Bordeaux\, 33000\, France
ATTACH;FMTTYPE=image/jpeg:https://egpebordeauxgironde.fr/wp-content/uploads/2025/05/Instances-e1749566942755.jpg
END:VEVENT
BEGIN:VEVENT
DTSTART;TZID=Europe/Paris:20260609T143000
DTEND;TZID=Europe/Paris:20260609T163000
DTSTAMP:20260423T162432
CREATED:20251108T172653Z
LAST-MODIFIED:20260309T165644Z
UID:1001-1781015400-1781022600@egpebordeauxgironde.fr
SUMMARY:Café des Grands-parents
DESCRIPTION:Le mardi 9 juin 2026 à 14h30 au Café Rohan (1er étage\, Place Pey Berland – tram « Hôtel de ville ») \nVoici la sixième rencontre du café des Grands-parents. Le thème sera : « Qu’est ce qui nous fait peur? »
URL:https://egpebordeauxgironde.fr/?tribe_events=cafe-des-grands-parents-5
ATTACH;FMTTYPE=image/jpeg:https://egpebordeauxgironde.fr/wp-content/uploads/2025/11/cafe-296.jpg
END:VEVENT
BEGIN:VEVENT
DTSTART;TZID=Europe/Paris:20260616T143000
DTEND;TZID=Europe/Paris:20260616T170000
DTSTAMP:20260423T162432
CREATED:20260318T073046Z
LAST-MODIFIED:20260318T073046Z
UID:1169-1781620200-1781629200@egpebordeauxgironde.fr
SUMMARY:"Les premiers secours"
DESCRIPTION:Clément Babin\, docteur en médecine\, urgentiste pendant 10 ans\, nous montrera les réflexes et les gestes à avoir lors d’un problème médical dans l’urgence. Il nous expliquera comment doit-on gérer les relations avec le SAMU. \nClément Babin est docteur en médecine\, il a exercé pendant 10 ans la médecine d’urgence dans un centre hospitalier régional d’Aquitaine siège de SAMU. Il est actuellement en reconversion pour devenir chirurgien dentiste 
URL:https://egpebordeauxgironde.fr/?tribe_events=les-premiers-secours
LOCATION:Athénée Municipal\, 10 Place Saint Christoly\, Bordeaux\, 33000\, France
ATTACH;FMTTYPE=image/png:https://egpebordeauxgironde.fr/wp-content/uploads/2026/03/medecine-durgence.png
END:VEVENT
END:VCALENDAR